BEGIN:VCALENDAR
VERSION:2.0
CALSCALE:GREGORIAN
PRODID:adamgibbons/ics
METHOD:PUBLISH
X-PUBLISHED-TTL:PT1H
BEGIN:VEVENT
UID:13186@balotta.org
SUMMARY:Critical Mass
DTSTAMP:20260421T051733Z
DTSTART:20260424T163000Z
DESCRIPTION:Massa Critica di mezzi a propulsione umana in giro per la città
	.\n\nPedalaiamo aspettando la Ciemmona 2026 a Livorno (tutte le info sul s
	ito\nciemmona.noblogs.org [http://ciemmona.noblogs.org])
URL:https://balotta.org/event/critical-mass-28
LOCATION:Piazza Galvani - Piazza Galvani
STATUS:CONFIRMED
CATEGORIES:Ciemmona2026Livorno,CM
X-ALT-DESC;FMTTYPE=text/html:<p>Massa Critica di mezzi a propulsione umana 
	in giro per la città.</p><p>Pedalaiamo aspettando la Ciemmona 2026 a Livor
	no (tutte le info sul sito <a href="http://ciemmona.noblogs.org" target="_
	blank">ciemmona.noblogs.org</a>)</p>
BEGIN:VALARM
ACTION:DISPLAY
DESCRIPTION:Critical Mass
TRIGGER:-PT1H
END:VALARM
END:VEVENT
END:VCALENDAR
