BEGIN:VCALENDAR
VERSION:2.0
CALSCALE:GREGORIAN
PRODID:adamgibbons/ics
METHOD:PUBLISH
X-PUBLISHED-TTL:PT1H
BEGIN:VEVENT
UID:13228@balotta.org
SUMMARY:Cura e Digitale. Spazi di condivisione e confronto
DTSTAMP:20260422T143519Z
DTSTART:20260511T160000Z
DTEND:20260511T183000Z
DESCRIPTION:Contesto. L’onda del cambiamento\n\nNel giro di pochi anni\, la
	 tecnologia digitale è diventata parte strutturale\ndelle nostre vite: org
	anizza il tempo\, ridisegna gli spazi (sociali\, culturali\,\npolitici)\, 
	riformula i bisogni quotidiani e i modi di relazione. Questo va al di\nlà 
	delle scelte individuali\, di quali app usiamo o quali social frequentiamo
	: il\nmondo è cambiato. Per questo diventa urgente fermarsi\, fare il punt
	o e\nconfrontarsi insieme su come stiamo vivendo questo cambiamento\, per 
	riattivare\nla nostra capacità di consapevolezza e controllo\, attenzione 
	e possibilità di\nscegliere come viverlo.\n\nCosa si fa? Spazio di incontr
	o e dialogo simmetrico\n\nProponiamo un percorso fatto di momenti di incon
	tro in gruppo e di persona per\nconfrontarsi sulle difficoltà che affronti
	amo nell’uso del digitale: da come\ninternet cambia la nostra capacità di 
	fare attenzione\, all’odio sui social\,\nall’uso compulsivo al quale certe
	 app e i dispositivi invitano.\n\n * Si tratta di incontri alla pari\, a p
	artire dalle esperienze personali\, senza\n   “giusto” e “sbagliato”: vorr
	emmo creare uno spazio sicuro\, dove siano la cura\n   e l’ascolto a conta
	re\, non le competenze tecniche.\n\n * Non è un percorso terapeutico ma un
	 cerchio di parola collettivo\, spontaneo e\n   circolare\, in cui condivi
	dere esperienze\, domande e pratiche quotidiane\, in\n   si possano formar
	e legami\, creare consapevolezza e darsi supporto.\n\n * Sul lungo termine
	\, questo percorso può servire anche a comprendere i bisogni\n   e le aspe
	ttative che realmente abbiamo rispetto alla tecnologia e\, facendo\n   ret
	e\, avviare azioni concrete per transitare a infrastrutture digitali\n   a
	lternative ed etiche.\n\nQuando e dove? Costa qualcosa?\n\nLe prossime dat
	e sono:\n\n👉 LUNEDÌ 27 APRILE\, approfondiremo il tema Intelligenza Artifi
	ciale\, e in\nparticolare i suoi costi.\n\nChe impatto ha l'arrivo massicc
	io e improvviso dell'IA..\n\n * Sull'apprendimento\, sulle capacità cognit
	ive\, sulla creatività\, sul lavoro?\n\n * Cosa implica in termini concret
	i questa massa sempre crescente di dati?\n   Quante risorse\, minerali\, e
	nergia servono\, e quante ne serviranno ancora? \n\n👉 LUNEDÌ 11 MAGGIO\, s
	arà invece dedicato all'impatto delle app\, di internet\,\ndei dispositivi
	 sulle relazioni: da come i social hanno modificato il concetto\ndi amiciz
	ia\, a come le dating app cambiano il modo di vivere le relazioni\nsentime
	ntali\n\n\n\nentrambe le date dalle ore 18.00 alle 20.30\n\nal TEATRO DI S
	OCIODRAMMA di VIA CARTOLERIA 18\, a BOLOGNA\n\nSeguiranno altri incontri: 
	troverete un calendario aggiornato su\ncuco.noblogs.org [http://cuco.noblo
	gs.org]\n\nGli incontri sono gratuiti e aperti a chiunque\, chiediamo un’o
	fferta libera (il\ncosto di un caffè) per lo spazio che ci ospita\, per ai
	utare a coprire le spese\ndi riscaldamento. Se possibile\, fateci sapere c
	he ci siete: basta una mail a\ncuco@inventati.org [cuco@inventati.org]\n\n
	\nPerché “Cura”?\n\nLa cura è intesa come attenzione\, prendersi a cuore\,
	 responsabilità condivisa e\ncostruzione di senso. Significa affrontare le
	 difficoltà non come individui\natomizzati e in competizione\, ma pensarle
	 come il frutto di scelte collettive.\nQuesto vale anche per il digitale: 
	quali tecnologie accettiamo\, quali\nrifiutiamo\, collettivamente? Quale u
	so del digitale nutre la società\, e quale\ninvece la vampirizza\, trasfor
	mando le persone in risorse da sfruttare? Come può\nla tecnologia essere a
	 servizio delle persone\, e non viceversa?\n\nInformazioni e contatto: cuc
	o@inventati.org [cuco@inventati.org] cell. 351 934\n1395
URL:https://balotta.org/event/cura-e-digitale-spazi-di-condivisione-e-confr
	onto-1
GEO:44.4897;11.3493
LOCATION:Teatro di Sociodramma - via Cartoleria 18
STATUS:CONFIRMED
CATEGORIES:cura,digitale
X-ALT-DESC;FMTTYPE=text/html:<p><strong>Contesto. L’onda del cambiamento</s
	trong></p><p>Nel giro di pochi anni, la tecnologia digitale è diventata pa
	rte strutturale delle nostre vite: organizza il tempo, ridisegna gli spazi
	 (sociali, culturali, politici), riformula i bisogni quotidiani e i modi d
	i relazione. Questo va al di là delle scelte individuali, di quali app usi
	amo o quali social frequentiamo: il mondo è cambiato. Per questo diventa u
	rgente fermarsi, fare il punto e confrontarsi insieme su come stiamo viven
	do questo cambiamento, per riattivare la nostra capacità di consapevolezza
	 e controllo, attenzione e possibilità di scegliere come viverlo.</p><p><s
	trong>Cosa si fa?</strong> <strong>Spazio di incontro e dialogo simmetrico
	</strong></p><p>Proponiamo un percorso fatto di momenti di incontro in gru
	ppo e di persona per confrontarsi sulle difficoltà che affrontiamo nell’us
	o del digitale: da come internet cambia la nostra capacità di fare attenzi
	one, all’odio sui social, all’uso compulsivo al quale certe app e i dispos
	itivi invitano.</p><ul><li><p>Si tratta di incontri alla pari, a partire d
	alle esperienze personali, senza “giusto” e “sbagliato”: vorremmo creare u
	no spazio sicuro, dove siano la cura e l’ascolto a contare, non le compete
	nze tecniche.</p></li><li><p>Non è un percorso terapeutico ma un cerchio d
	i parola collettivo, spontaneo e circolare, in cui condividere esperienze,
	 domande e pratiche quotidiane, in si possano formare legami, creare consa
	pevolezza e darsi supporto.</p></li><li><p>Sul lungo termine, questo perco
	rso può servire anche a comprendere i bisogni e le aspettative che realmen
	te abbiamo rispetto alla tecnologia e, facendo rete, avviare azioni concre
	te per transitare a infrastrutture digitali alternative ed etiche.</p></li
	></ul><p><strong>Quando e dove? Costa qualcosa?</strong></p><p>Le prossime
	 date sono:</p><p><strong>👉 LUNEDÌ 27 APRILE, </strong>approfondiremo il t
	ema Intelligenza Artificiale, e in particolare i suoi costi.</p><p>Che imp
	atto ha l'arrivo massiccio e improvviso dell'IA..</p><ul><li><p>Sull'appre
	ndimento, sulle capacità cognitive, sulla creatività, sul lavoro?</p></li>
	<li><p>Cosa implica in termini concreti questa massa sempre crescente di d
	ati? Quante risorse, minerali, energia servono, e quante ne serviranno anc
	ora?&nbsp;</p></li></ul><p><strong>👉 LUNEDÌ 11 MAGGIO, </strong>sarà invec
	e dedicato all'impatto delle app, di internet, dei dispositivi sulle relaz
	ioni: da come i social hanno modificato il concetto di amicizia, a come le
	 dating app cambiano il modo di vivere le relazioni sentimentali</p><p></p
	><p><strong>entrambe le date dalle ore 18.00 alle 20.30</strong></p><p><st
	rong>al</strong> <strong>TEATRO DI SOCIODRAMMA di VIA CARTOLERIA 18</stron
	g>, <strong>a BOLOGNA</strong></p><p>Seguiranno altri incontri: troverete 
	un calendario aggiornato su <a href="http://cuco.noblogs.org" target="_bla
	nk"><u>cuco.noblogs.org</u></a></p><p>Gli incontri sono <strong>gratuiti e
	 aperti a chiunque, chiediamo un’offerta libera (il costo di un caffè) per
	 lo spazio che ci ospita</strong>, per aiutare a coprire le spese di risca
	ldamento. Se possibile, fateci sapere che ci siete: basta una mail a <a hr
	ef="mailto:cuco@inventati.org" target="_blank">cuco@inventati.org</a></p><
	p><u><br></u><strong>Perché “Cura”?</strong></p><p>La cura è intesa come a
	ttenzione, prendersi a cuore, responsabilità condivisa e costruzione di se
	nso. Significa affrontare le difficoltà non come individui atomizzati e in
	 competizione, ma pensarle come il frutto di scelte collettive. Questo val
	e anche per il digitale: quali tecnologie accettiamo, quali rifiutiamo, co
	llettivamente? Quale uso del digitale nutre la società, e quale invece la 
	vampirizza, trasformando le persone in risorse da sfruttare? Come può la t
	ecnologia essere a servizio delle persone, e non viceversa?</p><p><strong>
	Informazioni e contatto: </strong><a href="mailto:cuco@inventati.org" targ
	et="_blank"><strong>cuco@inventati.org</strong></a><strong> cell. 351 934 
	1395</strong></p>
BEGIN:VALARM
ACTION:DISPLAY
DESCRIPTION:Cura e Digitale. Spazi di condivisione e confronto
TRIGGER:-PT1H
END:VALARM
END:VEVENT
END:VCALENDAR
