BEGIN:VCALENDAR
VERSION:2.0
CALSCALE:GREGORIAN
PRODID:adamgibbons/ics
METHOD:PUBLISH
X-PUBLISHED-TTL:PT1H
BEGIN:VEVENT
UID:13222@balotta.org
SUMMARY:Festa d'aprile e mostra di Collaggio
DTSTAMP:20260422T154736Z
DTSTART:20260424T160000Z
DTEND:20260424T220000Z
DESCRIPTION:Aprile non é un mese qualunque... per questo il 24 sera festegg
	iamo la\nLiberazione dal nazifascismo con una serata di festa da Amarilli!
	\n\nInauguriamo inoltre la mostra di collaggio: "come é bello a testa in g
	iù"\,\ndedicata a tutti i salami penzolanti.
URL:https://balotta.org/event/festa-daprile-e-mostra-di-collaggio
LOCATION:Amarilli café - Via san vitale\, 54/E
STATUS:CONFIRMED
CATEGORIES:antifascismo,aperitivo,Bologna,diy,musica,presentazione
X-ALT-DESC;FMTTYPE=text/html:<p>Aprile non é un mese qualunque... per quest
	o il 24 sera festeggiamo la Liberazione dal nazifascismo con una serata di
	 festa da Amarilli!</p><p>Inauguriamo inoltre la mostra di collaggio:  "co
	me é bello a testa in giù", dedicata a tutti i salami penzolanti.</p>
BEGIN:VALARM
ACTION:DISPLAY
DESCRIPTION:Festa d'aprile e mostra di Collaggio
TRIGGER:-PT1H
END:VALARM
END:VEVENT
END:VCALENDAR
