BEGIN:VCALENDAR
VERSION:2.0
CALSCALE:GREGORIAN
PRODID:adamgibbons/ics
METHOD:PUBLISH
X-PUBLISHED-TTL:PT1H
BEGIN:VEVENT
UID:13171@balotta.org
SUMMARY:Gaza calling
DTSTAMP:20260420T215856Z
DTSTART:20260422T150000Z
DTEND:20260422T210000Z
DESCRIPTION:🍉 Mercoledì 22 il programma della giornata a supporto di SOS G
	aza in\ncollaborazione con GazaFreestyle prevederà:\n\n* Dalle 17: lezion
	i di skate a cura di bologna.skateschool\n* Dalle 19: diretta live con Gaz
	a City e gli equipaggi della Global Sumud in\nSicilia\n\nTutto il giorno e
	 sera:\n✨ Free skate area\n✨ Parkour zone\n✨ Breaking cypher\n\n🍕🍹 Pizza e
	 cubalibre solidale per SOS Gaza\n\n🔗 Per iscriversi alle lezioni → contat
	ta bologna.skateschool\n🛹 Materiale skate verrà garantito per le lezioni\
	n\n🍉 Free Palestine\n🍉 Fight Zionism
URL:https://balotta.org/event/gaza-calling
LOCATION:Labàs - Vicolo Bolognetti 2
STATUS:CONFIRMED
CATEGORIES:gaza,global sumud flotilla,palestina,parkour,pizza,skate
X-ALT-DESC;FMTTYPE=text/html:<p>🍉 Mercoledì 22 il programma della giornata
	 a supporto di SOS Gaza in collaborazione con GazaFreestyle prevederà:<br
	><br>* Dalle 17: lezioni di skate a cura di bologna.skateschool<br>* Dalle
	 19: diretta live con Gaza City e gli equipaggi della Global Sumud in Sici
	lia<br><br>Tutto il giorno e sera:<br>✨ Free skate area<br>✨ Parkour zone<
	br>✨ Breaking cypher<br><br>🍕🍹 Pizza e cubalibre solidale per SOS Gaza<br>
	<br>🔗 Per iscriversi alle lezioni → contatta bologna.skateschool <br>🛹 Mat
	eriale skate verrà garantito per le lezioni<br><br>🍉 Free Palestine<br>🍉 
	Fight Zionism</p>
BEGIN:VALARM
ACTION:DISPLAY
DESCRIPTION:Gaza calling
TRIGGER:-PT1H
END:VALARM
END:VEVENT
END:VCALENDAR
