BEGIN:VCALENDAR
VERSION:2.0
CALSCALE:GREGORIAN
PRODID:adamgibbons/ics
METHOD:PUBLISH
X-PUBLISHED-TTL:PT1H
BEGIN:VEVENT
UID:13138@balotta.org
SUMMARY:immaginando Utoya
DTSTAMP:20260420T133234Z
DTSTART:20260429T180000Z
DTEND:20260429T210000Z
DESCRIPTION:immaginando Utoya\n\nMercoledì 29 aprile\n\nDi e con Giacomo Li
	va\n\nPresentato da Collettivo Vento\n\nÉ il 22 luglio 2011.\n\nLa Norvegi
	a viene colpita da una strage che verrà ricordata come la più grande\ntrag
	edia nazionale dopo la seconda guerra mondiale. Quali storie si nascondono
	\ndietro gli accattivanti titoli dei giornale? Quali volti\, dietro i minu
	ti di\nsilenzio?\n\nNella cornice di un grande gioco gli spettatori e le s
	pettatrici sono\naccompagnati all’interno di un viaggio immaginario alla s
	coperta di queste\nstorie che\, legate da un filo apparentemente invisibil
	e\, tessono la trama di\nquesta tragedia.\n\nEsistenze diverse\, intime e 
	individuali si rivelano nella loro umanità\, ironia e\nsingolarità dipinge
	ndo un quadro complesso del nostro presente.\n\nIn uno scenario dove i naz
	ionalismi dilagano\, gli assolutismi silenziano e le\nnarrazioni non lasci
	ano spazio alla speranza\, un racconto può diventare un\ninvito a immagina
	re nuove alternative possibili per far sì che la memoria e il\ndolore per 
	i morti si trasformi in un umile canto per i vivi.\n\nhttps://teatrinindip
	endenti.it/giu-dallarca/immaginando-utoya\n[https://teatrinindipendenti.it
	/giu-dallarca/immaginando-utoya]\n\nPer prenotare scrivere al 348 375 3100
	\n\ningresso con tessera ARCI - ARCIGAY E UISP\n\nApertura tesseramento e 
	convivialità ore 20\n\nInizio live dopo\n\nContributo artistico libero
URL:https://balotta.org/event/immaginando-utoya-1
LOCATION:Laboratorio Giù dall'Arca - via nicolò dall'arca 43/f
STATUS:CONFIRMED
CATEGORIES:collettivo vento,Norvegia,teatro civile
X-ALT-DESC;FMTTYPE=text/html:<p>immaginando Utoya</p><p>Mercoledì 29 aprile
	</p><p>Di e con Giacomo Liva</p><p>Presentato da Collettivo Vento</p><p>É 
	il 22 luglio 2011.</p><p>La Norvegia viene colpita da una strage che verrà
	 ricordata come la più grande tragedia nazionale dopo la seconda guerra mo
	ndiale. Quali storie si nascondono dietro gli accattivanti titoli dei gior
	nale? Quali volti, dietro i minuti di silenzio?</p><p>Nella cornice di un 
	grande gioco gli spettatori e le spettatrici sono accompagnati all’interno
	 di un viaggio immaginario alla scoperta di queste storie che, legate da u
	n filo apparentemente invisibile, tessono la trama di questa tragedia.</p>
	<p>Esistenze diverse, intime e individuali si rivelano nella loro umanità,
	 ironia e singolarità dipingendo un quadro complesso del nostro presente.<
	/p><p>In uno scenario dove i nazionalismi dilagano, gli assolutismi silenz
	iano e le narrazioni non lasciano spazio alla speranza, un racconto può di
	ventare un invito a immaginare nuove alternative possibili per far sì che 
	la memoria e il dolore per i morti si trasformi in un umile canto per i vi
	vi.</p><p><a href="https://teatrinindipendenti.it/giu-dallarca/immaginando
	-utoya" target="_blank">https://teatrinindipendenti.it/giu-dallarca/immagi
	nando-utoya</a></p><p>Per prenotare scrivere al 348 375 3100</p><p>ingress
	o con tessera ARCI - ARCIGAY E UISP</p><p>Apertura tesseramento e convivia
	lità ore 20</p><p>Inizio live dopo</p><p>Contributo artistico libero</p>
BEGIN:VALARM
ACTION:DISPLAY
DESCRIPTION:immaginando Utoya
TRIGGER:-PT1H
END:VALARM
END:VEVENT
END:VCALENDAR
