BEGIN:VCALENDAR
VERSION:2.0
CALSCALE:GREGORIAN
PRODID:adamgibbons/ics
METHOD:PUBLISH
X-PUBLISHED-TTL:PT1H
BEGIN:VEVENT
UID:13111@balotta.org
SUMMARY:Oltre la Narrazione. Autodeterminazione e resistenza palestinese
DTSTAMP:20260420T162110Z
DTSTART:20260426T150000Z
DTEND:20260426T183000Z
DESCRIPTION:A partire dal movimento Blocchiamo Tutto abbiamo assistito a un
	a crescita\nsignificativa della mobilitazione internazionale in solidariet
	à alla Palestina.\nIn Italia\, settori importanti della classe operaia e d
	el mondo studentesco si\nsono mobilitati e hanno denunciato una violenza s
	istematica sostenuta dal\nGoverno Meloni che si è reso complice del genoci
	dio in atto.\n\nQueste mobilitazioni rappresentano un punto di partenza im
	portante. Ma oggi\, di\nfronte ai recenti sviluppi e a una crisi sempre pi
	ù evidente dell’ordine\nimperialista globale\, diventa necessario fare un 
	passo in avanti: riprendere le\nfila di questo movimento e interrogarsi su
	lla direzione politica da\nintraprendere.\n\nA partire dai concetti di pol
	itica del gradimento e il paradigma della vittima\,\nespressi nel testo Vi
	ttime perfette di Mohammed El Kurd\, analizzeremo come la\nnarrazione domi
	nante tenda a incasellare la resistenza palestinese entro i\nlimiti di una
	 vittimizzazione accettabile\, svuotandone la portata politica e\ntrasform
	andola in un oggetto di compassione piuttosto che in un soggetto di\nlotta
	.\n\nIn questo modo\, si cerca di trasformare la solidarietà a una forma p
	assiva di\nempatia umanitaria per renderla incapace di mettere in discussi
	one i rapporti di\nforza esistenti e il sistema che li produce nella sua t
	otalità.\n\nDi questo e di altro vogliamo discuterne domenica 26 aprile al
	le ore 17:00 al\nFondo Comini.
URL:https://balotta.org/event/oltre-la-narrazione-autodeterminazione-e-resi
	stenza-palestinese
GEO:44.5154;11.342
LOCATION:Fondo Comini - 68\, Via Aristotile Fioravanti\, Arcoveggio\, Navil
	e\, Bologna\, Emilia-Romagna\, 40129\, Italia
STATUS:CONFIRMED
CATEGORIES:libri,palestina,presentazione
X-ALT-DESC;FMTTYPE=text/html:<p>A partire dal movimento Blocchiamo Tutto ab
	biamo assistito a una crescita significativa della mobilitazione internazi
	onale in solidarietà alla Palestina. In Italia, settori importanti della c
	lasse operaia e del mondo studentesco si sono mobilitati e hanno denunciat
	o una violenza sistematica sostenuta dal Governo Meloni che si è reso comp
	lice del genocidio in atto.</p><p>Queste mobilitazioni rappresentano un pu
	nto di partenza importante. Ma oggi, di fronte ai recenti sviluppi e a una
	 crisi sempre più evidente dell’ordine imperialista globale, diventa neces
	sario fare un passo in avanti: riprendere le fila di questo movimento e in
	terrogarsi sulla direzione politica da intraprendere.</p><p>A partire dai 
	concetti di politica del gradimento e il paradigma della vittima, espressi
	 nel testo Vittime perfette di Mohammed El Kurd, analizzeremo come la narr
	azione dominante tenda a incasellare la resistenza palestinese entro i lim
	iti di una vittimizzazione accettabile, svuotandone la portata politica e 
	trasformandola in un oggetto di compassione piuttosto che in un soggetto d
	i lotta.</p><p>In questo modo, si cerca di trasformare la solidarietà a un
	a forma passiva di empatia umanitaria per renderla incapace di mettere in 
	discussione i rapporti di forza esistenti e il sistema che li produce nell
	a sua totalità.</p><p>Di questo e di altro vogliamo discuterne domenica 26
	 aprile alle ore 17:00 al Fondo Comini.</p>
BEGIN:VALARM
ACTION:DISPLAY
DESCRIPTION:Oltre la Narrazione. Autodeterminazione e resistenza palestines
	e
TRIGGER:-PT1H
END:VALARM
END:VEVENT
END:VCALENDAR
