BEGIN:VCALENDAR
VERSION:2.0
CALSCALE:GREGORIAN
PRODID:adamgibbons/ics
METHOD:PUBLISH
X-PUBLISHED-TTL:PT1H
BEGIN:VEVENT
UID:13177@balotta.org
SUMMARY:Rendere pulito il mondo
DTSTAMP:20260420T215209Z
DTSTART:20260512T160000Z
DESCRIPTION:Rendere pulito il mondo – percorsi di lettura e incontro con Fr
	ançoise Vergès\n\nUn libro necessario\, che smaschera il mito della “pul
	izia” e ne rivela le radici\ncoloniali\, razziali e di sfruttamento. Un te
	sto per politicizzare l’ecologia e\nrimettere al centro le lotte.\n\n📚 Let
	ture collettive – verso l’incontro con l’autrice\n\nDue momenti di confron
	to e costruzione condivisa\, per arrivare preparatə e\nattraversare insiem
	e i nodi politici del libro:\n\n• Martedì 21 aprile\, ore 18.30 – Casa de
	l mondo Adjebadia\n\n• Martedì 5 maggio\, ore 18.30 – Libreria delle donn
	e\n\n✨ Presentazione del libro con Françoise Vergès\n\nUn’occasione per 
	discutere direttamente con l’autrice e mettere in comune\npratiche\, doman
	de e prospettive:\n\n• Martedì 12 maggio\, ore 18.00 – Biblioteca Amílca
	r Cabral
URL:https://balotta.org/event/rendere-pulito-il-mondo
GEO:44.4842;11.3394
LOCATION:Biblioteca Amilcar Cabral - Biblioteca Amilcar Cabral\, 24\, Via S
	an Mamolo\, Roncrio\, Santo Stefano\, Bologna\, Emilia-Romagna\, 40136\, I
	talia
STATUS:CONFIRMED
CATEGORIES:Anticolonialismo,antirazzismo,ecologia,libro
X-ALT-DESC;FMTTYPE=text/html:<p>Rendere pulito il mondo – percorsi di lettu
	ra e incontro con Françoise Vergès</p><p>Un libro necessario, che smasch
	era il mito della “pulizia” e ne rivela le radici coloniali, razziali e di
	 sfruttamento. Un testo per politicizzare l’ecologia e rimettere al centro
	 le lotte.</p><p>📚 Letture collettive – verso l’incontro con l’autrice</p>
	<p>Due momenti di confronto e costruzione condivisa, per arrivare preparat
	ə e attraversare insieme i nodi politici del libro:</p><p>• Martedì 21 ap
	rile, ore 18.30 – Casa del mondo Adjebadia</p><p>• Martedì 5 maggio, ore 
	18.30 – Libreria delle donne</p><p>✨ Presentazione del libro con François
	e Vergès</p><p>Un’occasione per discutere direttamente con l’autrice e me
	ttere in comune pratiche, domande e prospettive:</p><p>• Martedì 12 maggi
	o, ore 18.00 – Biblioteca Amílcar Cabral</p>
BEGIN:VALARM
ACTION:DISPLAY
DESCRIPTION:Rendere pulito il mondo
TRIGGER:-PT1H
END:VALARM
END:VEVENT
END:VCALENDAR
