BEGIN:VCALENDAR
VERSION:2.0
CALSCALE:GREGORIAN
PRODID:adamgibbons/ics
METHOD:PUBLISH
X-PUBLISHED-TTL:PT1H
BEGIN:VEVENT
UID:13237@balotta.org
SUMMARY:SENZA CHIEDERE PERMESSO MAGGIO 2026
DTSTAMP:20260422T172740Z
DTSTART:20260507T150000Z
DTEND:20260507T220000Z
DESCRIPTION:GIOVEDI 7 MAGGIO 🏴‍☠️\n\nMargherite\, rose\, felci\, piante veleno
	se e carnivore\, prepariamo il nettare e\naffiliamo le spine\, prontx per 
	il mercatino di maggio? Questo mese ci\nriprendiamo il parchetto! Se vieni
	 con la tua distro o il tuo banchetto porta\nluci e prolunghe! Qui [https:
	//mercatinoautogestito.noblogs.org/come-funziona/]\ncome funziona (no banc
	hetti cibo/bar per favore).\n\n🥷 Dalle 17 consueto allestimento\, birrette
	 e musichette con Elektrosanchi.\n\n🏹 Dalle 19:30 chiacchiera con Mederí\,
	 sportello legale autogestito attivo a\nBologna nel supporto alle persone 
	migranti. Un’occasione per parlare del nuovo\npatto UE e degli effetti che
	 avrà in termini di ulteriore avvitamento repressivo\nalla libertà di movi
	mento delle persone migranti.\n\n🦋 Dalle 21 si svalica su mondi paralleli 
	con alcunx bottoncinx del Circo\nBottoni and Friends.\n\n🔥 Dalle 22 varco 
	spazio temporaletek: visual e tekno contro ogni confine con\nKevin smuggle
	s e KMKZ/klinikal center.\n\n🖤 Cena a cura di Mederí\, vinello e drink a s
	ostegno della Tattoo Benefit che si\nterrà il 23/24 maggio a Bologna.\n\nS
	e vedi abusi\, provocazioni o violenze da parte delle guardie\, non delega
	re\, non\nlasciamo sole le persone\, difendiamo i nostri spazi di vita.\n\
	nContro il ricatto dei documenti\, contro cpr e frontiere\nNESSUN CONFINE\
	, SOLO ORIZZONTI\n\nhttps://mercatinoautogestito.noblogs.org/post/2026/04/
	22/senza-chiedere-permesso-maggio-2026/\n[https://mercatinoautogestito.nob
	logs.org/post/2026/04/22/senza-chiedere-permesso-maggio-2026/]
URL:https://balotta.org/event/senza-chiedere-permesso-maggio-2026
LOCATION:Parchetto - Tra via Fioravanti e via Delfino Insolera\, in prossim
	ità del campo da basket
STATUS:CONFIRMED
CATEGORIES:autogestione,banchetti,chiacchera,circo,distro,frontiere,mercati
	no,Senza chiedere permesso,Tekno,visual art
X-ALT-DESC;FMTTYPE=text/html:<p><strong>GIOVEDI 7 MAGGIO </strong>🏴‍☠️<br><br>
	Margherite, rose, felci, piante velenose e carnivore, prepariamo il nettar
	e e affiliamo le spine, prontx per il mercatino di maggio? Questo mese ci 
	riprendiamo il parchetto! Se vieni con la tua distro o il tuo banchetto po
	rta luci e prolunghe! <a href="https://mercatinoautogestito.noblogs.org/co
	me-funziona/" target="_blank">Qui</a> come funziona (no banchetti cibo/bar
	 per favore).</p><p>🥷​ Dalle 17 consueto allestimento, birrette e musichet
	te con Elektrosanchi.</p><p>🏹​ Dalle 19:30 chiacchiera con Mederí, sportel
	lo legale autogestito attivo a Bologna nel supporto alle persone migranti.
	 Un’occasione per parlare del nuovo patto UE e degli effetti che avrà in t
	ermini di ulteriore avvitamento repressivo alla libertà di movimento delle
	 persone migranti.</p><p>🦋 Dalle 21 si svalica su mondi paralleli con alcu
	nx bottoncinx del Circo Bottoni and Friends.</p><p>🔥 Dalle 22 varco spazio
	 temporaletek: visual e tekno contro ogni confine con Kevin smuggles e KMK
	Z/klinikal center.</p><p>🖤 Cena a cura di Mederí, vinello e drink a sosteg
	no della Tattoo Benefit che si terrà il 23/24 maggio a Bologna.</p><p>Se v
	edi abusi, provocazioni o violenze da parte delle guardie, non delegare, n
	on lasciamo sole le persone, difendiamo i nostri spazi di vita.</p><p><str
	ong>Contro il ricatto dei documenti, contro cpr e frontiere<br>NESSUN CONF
	INE, SOLO ORIZZONTI<br><br></strong><a href="https://mercatinoautogestito.
	noblogs.org/post/2026/04/22/senza-chiedere-permesso-maggio-2026/" target="
	_blank"><strong>https://mercatinoautogestito.noblogs.org/post/2026/04/22/s
	enza-chiedere-permesso-maggio-2026/</strong></a></p>
BEGIN:VALARM
ACTION:DISPLAY
DESCRIPTION:SENZA CHIEDERE PERMESSO MAGGIO 2026
TRIGGER:-PT1H
END:VALARM
END:VEVENT
END:VCALENDAR
