BEGIN:VCALENDAR
VERSION:2.0
CALSCALE:GREGORIAN
PRODID:adamgibbons/ics
METHOD:PUBLISH
X-PUBLISHED-TTL:PT1H
BEGIN:VEVENT
UID:13123@balotta.org
SUMMARY:Suoni Resistenti 2026
DTSTAMP:20260419T234227Z
DTSTART:20260424T163000Z
DTEND:20260425T153000Z
DESCRIPTION:𝐀𝐬𝐬. 𝐏𝐫𝐢𝐦𝐨 𝐌𝐨𝐫𝐨𝐧𝐢 in collaborazione con 𝐁𝐨𝐥𝐨𝐠𝐧𝐚 𝐂𝐢𝐭𝐲\n𝐑𝐨𝐜𝐤𝐞𝐫𝐬\n
	𝑝𝑟𝑒𝑠𝑒𝑛𝑡𝑎\n✊🎤 𝐒𝐔𝐎𝐍𝐈 𝐑𝐄𝐒𝐈𝐒𝐓𝐄𝐍𝐓𝐈 𝟐𝟎𝟐6 ✊🎤\n𝘜𝘯 𝘦𝘷𝘦𝘯𝘵𝘰 𝘴𝘶 𝘥𝘶𝘦 𝘨𝘪𝘰𝘳𝘯𝘪 𝘤𝘩𝘦 𝘤𝘰𝘮𝘦 𝘥𝘪
	 𝘤𝘰𝘯𝘴𝘶𝘦𝘵𝘰\n𝘷𝘦𝘥𝘳𝘢̀ 𝘭'𝘢𝘭𝘵𝘦𝘳𝘯𝘢𝘳𝘴𝘪 𝘥𝘪 𝘮𝘶𝘴𝘪𝘤𝘢\, 𝘤𝘶𝘭𝘵𝘶𝘳𝘢 𝘦\n𝘢𝘵𝘵𝘪𝘷𝘪𝘵𝘢̀ 𝘱𝘦𝘳 𝘧𝘦𝘴𝘵𝘦𝘨
	𝘨𝘪𝘢𝘳𝘦 𝘪𝘯𝘴𝘪𝘦𝘮𝘦 𝘭𝘢\n𝘭𝘪𝘣𝘦𝘳𝘢𝘻𝘪𝘰𝘯𝘦 𝘦 𝘳𝘪𝘤𝘰𝘳𝘥𝘢𝘳𝘦 𝘭𝘢 𝘳𝘦𝘴𝘪𝘴𝘵𝘦𝘯𝘻𝘢\n𝘱𝘢𝘳𝘵𝘪𝘨𝘪𝘢𝘯𝘢.\n🏡 Gl
	i eventi si svolgeranno presso il 𝗖𝗮𝘀𝗼𝗻𝗲 𝗣𝗮𝗿𝘁𝗶𝗴𝗶𝗮𝗻𝗼 𝗱𝗶\n𝗥𝘂𝗯𝗶𝘇𝘇𝗮𝗻𝗼\, via Ca
	stello (𝗦. 𝗣𝗶𝗲𝘁𝗿𝗼 𝗶𝗻 𝗖𝗮𝘀𝗮𝗹𝗲).\n\n📍𝟐𝟒 𝐀𝐩𝐫𝐢𝐥𝐞\n⏰ Dalle 20.00 live con:\n🎸 𝐁𝐀
	𝐒𝐄𝐌𝐄𝐍𝐓 𝐁𝐎𝐏𝐏𝐄𝐑𝐒\n🎸 𝐍𝐨𝐰𝐡𝐢𝐭𝐞𝐫𝐚𝐠\n🎸 𝐁𝐫𝐞𝐧𝐬𝐨\n\n📍𝟐𝟓 𝐀𝐩𝐫𝐢𝐥𝐞\n⏰ Dalle ore 16.00 sp
	ettacolo "Belle Bolle" (a cura di Compagnia Ribolle e Teatro\ndell'Assedio
	).\n
URL:https://balotta.org/event/suoni-resistenti-2026
LOCATION:Casone Partigiano di Rubizzano - S. Pietro in casale (BO) - Via Ca
	stello 40018 San Pietro in Casale
STATUS:CONFIRMED
CATEGORIES:25 aprile,Associazione Primo Moroni,bologna city rockers,musica,
	resistenza,teatro
X-ALT-DESC;FMTTYPE=text/html:<p>𝐀𝐬𝐬. 𝐏𝐫𝐢𝐦𝐨 𝐌𝐨𝐫𝐨𝐧𝐢 in collaborazione con 𝐁𝐨𝐥
	𝐨𝐠𝐧𝐚 𝐂𝐢𝐭𝐲 𝐑𝐨𝐜𝐤𝐞𝐫𝐬<br>𝑝𝑟𝑒𝑠𝑒𝑛𝑡𝑎<br>✊🎤 𝐒𝐔𝐎𝐍𝐈 𝐑𝐄𝐒𝐈𝐒𝐓𝐄𝐍𝐓𝐈 𝟐𝟎𝟐6 ✊🎤<br>𝘜𝘯 𝘦𝘷𝘦𝘯𝘵𝘰 
	𝘴𝘶 𝘥𝘶𝘦 𝘨𝘪𝘰𝘳𝘯𝘪 𝘤𝘩𝘦 𝘤𝘰𝘮𝘦 𝘥𝘪 𝘤𝘰𝘯𝘴𝘶𝘦𝘵𝘰 𝘷𝘦𝘥𝘳𝘢̀ 𝘭'𝘢𝘭𝘵𝘦𝘳𝘯𝘢𝘳𝘴𝘪 𝘥𝘪 𝘮𝘶𝘴𝘪𝘤𝘢, 𝘤𝘶𝘭𝘵𝘶𝘳𝘢 
	𝘦 𝘢𝘵𝘵𝘪𝘷𝘪𝘵𝘢̀ 𝘱𝘦𝘳 𝘧𝘦𝘴𝘵𝘦𝘨𝘨𝘪𝘢𝘳𝘦 𝘪𝘯𝘴𝘪𝘦𝘮𝘦 𝘭𝘢 𝘭𝘪𝘣𝘦𝘳𝘢𝘻𝘪𝘰𝘯𝘦 𝘦 𝘳𝘪𝘤𝘰𝘳𝘥𝘢𝘳𝘦 𝘭𝘢 𝘳𝘦𝘴𝘪𝘴𝘵𝘦𝘯
	𝘻𝘢 𝘱𝘢𝘳𝘵𝘪𝘨𝘪𝘢𝘯𝘢.<br>🏡 Gli eventi si svolgeranno presso il 𝗖𝗮𝘀𝗼𝗻𝗲 𝗣𝗮𝗿𝘁𝗶𝗴𝗶𝗮𝗻𝗼 
	𝗱𝗶 𝗥𝘂𝗯𝗶𝘇𝘇𝗮𝗻𝗼, via Castello (𝗦. 𝗣𝗶𝗲𝘁𝗿𝗼 𝗶𝗻 𝗖𝗮𝘀𝗮𝗹𝗲).<br><br>📍𝟐𝟒 𝐀𝐩𝐫𝐢𝐥𝐞<br>⏰ D
	alle 20.00 live con:<br>🎸 𝐁𝐀𝐒𝐄𝐌𝐄𝐍𝐓 𝐁𝐎𝐏𝐏𝐄𝐑𝐒<br>🎸 𝐍𝐨𝐰𝐡𝐢𝐭𝐞𝐫𝐚𝐠<br>🎸 𝐁𝐫𝐞𝐧𝐬𝐨<br>
	<br>📍𝟐𝟓 𝐀𝐩𝐫𝐢𝐥𝐞<br>⏰ Dalle ore 16.00 spettacolo "Belle Bolle" (a cura di Co
	mpagnia Ribolle e Teatro dell'Assedio).<br></p>
BEGIN:VALARM
ACTION:DISPLAY
DESCRIPTION:Suoni Resistenti 2026
TRIGGER:-PT1H
END:VALARM
END:VEVENT
END:VCALENDAR
