BEGIN:VCALENDAR
VERSION:2.0
CALSCALE:GREGORIAN
PRODID:adamgibbons/ics
METHOD:PUBLISH
X-PUBLISHED-TTL:PT1H
BEGIN:VEVENT
UID:13189@balotta.org
SUMMARY:Targa ai caduti della Cirenaica
DTSTAMP:20260420T223943Z
DTSTART:20260421T170000Z
DESCRIPTION:LIBERIAMOCI DA VECCHI E NUOVI FASCISMI\n\nIl 21 aprile 1945 Bol
	ogna fu liberata dai nazifascisti. Qualche giorno dopo\, da\nuna stamperia
	 partigiana che per anni\, nel rione Cirenaica\, proprio sotto al\nponte d
	ella ferrovia\, aveva operato nella clandestinità\, venne fatto uscire un\
	nmanifesto:\n\n“Il nostro cuore trepida di altissima gioia\, i nostri occh
	i si inumidiscono di\nlacrime di profonda commozione: Bologna\, la nostra 
	città\, è libera… Salutiamo\nquesto giorno fausto che riconduce a noi ed a
	 voi la vita e la libertà.\n\nSì\, libertà per tutti\, libertà di pensiero
	 e di parola\, di stampa e di fede.\n\nMa non libertà per coloro che hanno
	 oppressa ed avvilita\, fatta schiava e misera\nquesta terra. Su costoro –
	 servi\, affaristi\, mezzani e spie – su questi abbietti\nscenderà inesora
	bile la giustizia dovuta ai colpevoli della più grande infamia\,\npunitric
	e dei rei del più grave delitto\, quello della soppressione di ogni\nliber
	tà… La civiltà di domani deve essere pervasa di nuove idealità\, deve aver
	e\ncome autori e motori gli uomini che affaticano il braccio o il pensiero
	 e hanno\nquesta sola preziosa ricchezza”.\n\nAnche quest’anno\, come orma
	i da diverso tempo\, il 21 aprile saremo nelle strade\n“partigiane” della 
	Cirenaica\, ci troveremo alle 19 in via Bentivogli\, sotto la\nlapide ai c
	aduti per la libertà\, e arriveremo al giardino dedicato a Lorenzo\nOrsett
	i “Orso”\, in via Sante Vincenzi… per ricordare le partigiane e i\npartigi
	ani di ieri e di oggi.\n\nhttps://vag61.noblogs.org/post/2026/04/20/liberi
	amoci-da-vecchi-e-nuovi-fascismi/\n[https://vag61.noblogs.org/post/2026/04
	/20/liberiamoci-da-vecchi-e-nuovi-fascismi/]
URL:https://balotta.org/event/targa-ai-caduti-della-cirenaica
GEO:44.4966;11.3641
LOCATION:via Giuseppe Bentivogli\, 44 - 44\, Via Giuseppe Bentivogli\, Cire
	naica\, San Donato-San Vitale\, Bologna\, Emilia-Romagna\, 40138\, Italia
STATUS:CONFIRMED
CATEGORIES:antifascismo
X-ALT-DESC;FMTTYPE=text/html:<p>LIBERIAMOCI DA VECCHI E NUOVI FASCISMI</p><
	p>Il 21 aprile 1945 Bologna fu liberata dai nazifascisti. Qualche giorno d
	opo, da una stamperia partigiana che per anni, nel rione Cirenaica, propri
	o sotto al ponte della ferrovia, aveva operato nella clandestinità, venne 
	fatto uscire un manifesto:</p><p>“Il nostro cuore trepida di altissima gio
	ia, i nostri occhi si inumidiscono di lacrime di profonda commozione: Bolo
	gna, la nostra città, è libera… Salutiamo questo giorno fausto che ricondu
	ce a noi ed a voi la vita e la libertà.</p><p>Sì, libertà per tutti, liber
	tà di pensiero e di parola, di stampa e di fede. </p><p>Ma non libertà per
	 coloro che hanno oppressa ed avvilita, fatta schiava e misera questa terr
	a. Su costoro – servi, affaristi, mezzani e spie – su questi abbietti scen
	derà inesorabile la giustizia dovuta ai colpevoli della più grande infamia
	, punitrice dei rei del più grave delitto, quello della soppressione di og
	ni libertà… La civiltà di domani deve essere pervasa di nuove idealità, de
	ve avere come autori e motori gli uomini che affaticano il braccio o il pe
	nsiero e hanno questa sola preziosa ricchezza”.</p><p>Anche quest’anno, co
	me ormai da diverso tempo, il 21 aprile saremo nelle strade “partigiane” d
	ella Cirenaica, ci troveremo alle 19 in via Bentivogli, sotto la lapide ai
	 caduti per la libertà, e arriveremo al giardino dedicato a Lorenzo Orsett
	i “Orso”, in via Sante Vincenzi… per ricordare le partigiane e i partigian
	i di ieri e di oggi.</p><p><a href="https://vag61.noblogs.org/post/2026/04
	/20/liberiamoci-da-vecchi-e-nuovi-fascismi/" target="_blank">https://vag61
	.noblogs.org/post/2026/04/20/liberiamoci-da-vecchi-e-nuovi-fascismi/</a></
	p>
BEGIN:VALARM
ACTION:DISPLAY
DESCRIPTION:Targa ai caduti della Cirenaica
TRIGGER:-PT1H
END:VALARM
END:VEVENT
END:VCALENDAR
