BEGIN:VCALENDAR
VERSION:2.0
CALSCALE:GREGORIAN
PRODID:adamgibbons/ics
METHOD:PUBLISH
X-PUBLISHED-TTL:PT1H
BEGIN:VEVENT
UID:13144@balotta.org
SUMMARY:TORTELLATA INCAZZATA
DTSTAMP:20260420T171534Z
DTSTART:20260424T090000Z
DTEND:20260424T210000Z
DESCRIPTION:Settebello è un laboratorio autogestito e spazio di condivision
	e dei saperi in\nvia cartoleria\, Bologna.\n\nE il 24 aprile collaborerà c
	on Camere d'aria in una giornata dedicata alla pasta\nfresca e ai laborato
	ri DIY!\n\nTi aspettiamo dalle 11:00 con un laboratorio di tortelli vegani
	\, necessario\niscriversi contattando 351 321 3151 (Laura)\, se vuoi solo 
	mangiare puoi farlo\,\nsempre prenotandoti allo stesso numero.\n\nNel pome
	riggio laboratorio di linoleum con macchina della pasta e serigrafia.\nCen
	a con pastasciutta e fino le 23:00 electro musikette.\n\nPROGRAMMA\n\n11:0
	0 - 14:00\nLaboratorio di tortelli incazzati - vegan\nMax. 10 partecipanti
	 (necessario iscriversi)\n\n14:00\nPranzo conviviale collettivo\nTortelli 
	del lab e sangria\nPosti limitati (necessario prenotarsi)\n\n16:30 - 19:30
	\nLaboratorio Tortello Monello\nStampa con linoleum e macchina della pasta
	\n\n18:00 - 23:00\nElectro-musikette nella ciclofficina\n\n20:00\nCena con
	viviale\nMaltagliati e pastasciutta - vegan\n\n21:00\nLive serigrafia\nPor
	ta la tua maglia\, fatti una toppa!\n\nNo sbiri No fasci No infami Si anti
	fa incazzat3
URL:https://balotta.org/event/tortellata-incazzata
LOCATION:Camere d'Aria - Via Guelfa 40/4
STATUS:CONFIRMED
CATEGORIES:
X-ALT-DESC;FMTTYPE=text/html:<p>Settebello è un laboratorio autogestito e s
	pazio di condivisione dei saperi in via cartoleria, Bologna.</p><p>E il 24
	 aprile collaborerà con Camere d'aria in una giornata dedicata alla pasta 
	fresca e ai laboratori DIY!</p><p>Ti aspettiamo dalle 11:00 con un laborat
	orio di tortelli vegani, necessario iscriversi contattando 351 321 3151 (L
	aura), se vuoi solo mangiare puoi farlo, sempre prenotandoti allo stesso n
	umero.</p><p>Nel pomeriggio laboratorio di linoleum con macchina della pas
	ta e serigrafia. Cena con pastasciutta e fino le 23:00 electro musikette.<
	/p><p>PROGRAMMA<br><br>11:00 - 14:00<br>Laboratorio di tortelli incazzati 
	- vegan<br>Max. 10 partecipanti (necessario iscriversi)<br><br>14:00<br>Pr
	anzo conviviale collettivo<br>Tortelli del lab e sangria<br>Posti limitati
	 (necessario prenotarsi)<br><br>16:30 - 19:30<br>Laboratorio Tortello Mone
	llo<br>Stampa con linoleum e macchina della pasta<br><br>18:00 - 23:00<br>
	Electro-musikette nella ciclofficina<br><br>20:00<br>Cena conviviale<br>Ma
	ltagliati e pastasciutta - vegan<br><br>21:00<br>Live serigrafia<br>Porta 
	la tua maglia, fatti una toppa!</p><p>No sbiri No fasci No infami Si antif
	a incazzat3</p>
BEGIN:VALARM
ACTION:DISPLAY
DESCRIPTION:TORTELLATA INCAZZATA
TRIGGER:-PT1H
END:VALARM
END:VEVENT
END:VCALENDAR
